BEGIN:VCALENDAR
VERSION:2.0
PRODID:icalendar-ruby
CALSCALE:GREGORIAN
BEGIN:VEVENT
DTSTAMP:20260420T090243Z
UID:88d74a6f-3a8a-4ad0-b38c-5315b71ea6ef
DTSTART:20260517T100000
DTEND:20260517T150000
DESCRIPTION:REPTILIENBÖRSE !!!  alles rund um das Thema Terraristik\, Rept
 ilien &amp\; Zubehör\,  Besucher-Öffnungszeiten von 10 bis 15 Uhr\,  Aus
 steller ab 6.30    Wegbeschreibung : siehe www.rolinski.de
LOCATION:An Der Hessenhalle 35398 
SUMMARY:Hessenhallen (REPTILIENBÖRSE) Messe Hessenhalle
END:VEVENT
END:VCALENDAR
