BEGIN:VCALENDAR
VERSION:2.0
PRODID:icalendar-ruby
CALSCALE:GREGORIAN
BEGIN:VEVENT
DTSTAMP:20260423T233330Z
UID:6e6ac0bb-1a8b-415b-85a6-ac5e19e8fbb4
DTSTART:20261003T110000
DTEND:20261003T180000
DESCRIPTION:großer Flohmarkt zum verkaufsoffenen Sonn- u. Feiertag in Mün
 singen! Platzvergabe ab 8 Uhr! Unser Mitarbeiter zeigt Ihnen Ihren Standpl
 atz! Jeder kann ohne Anmeldung mitmachen! Es gibt genug Platz für alle! S
 tandmiete € 9\,- pro Meter! Bezahlung vor Ort! Auto kostenlos am Stand! 
 Einfach vorbeikommen! Neuware erlaubt!\nBis dann!\nDer Markt findet bei je
 dem Wetter statt!\nTisch\, Stuhl\, Kleiderstange etc. bitte selbst mitbrin
 gen!\n \n \nJetzt neu: Besuche www.gerosflohmarkt.de und verkaufe kosten
 los Deine Sachen online!\nGerosFlohmarkt.de - Flohmärkte und kostenlose K
 leinanzeigen!
LOCATION:Lichtensteinstraße 32 72525 
SUMMARY:Münsingen\, Parkplatz JYSK (neben REWE\, Super Lage!)\, großer So
 nntags- Flohmarkt! Findet statt! Ohne Voranmeldung! Ohne Termin! Einfach v
 orbeikommen!
END:VEVENT
END:VCALENDAR
