BEGIN:VCALENDAR
VERSION:2.0
PRODID:icalendar-ruby
CALSCALE:GREGORIAN
BEGIN:VEVENT
DTSTAMP:20260426T042108Z
UID:1b6c9681-4b00-464a-9208-c5269ab3cc5b
DTSTART:20261108T110000
DTEND:20261108T180000
DESCRIPTION:Trödel  10\,- €\nNeuware  15\,- €\n 
LOCATION:Bornheimer Straße 166 53119 Zentrum
SUMMARY:OBI- und Edeka Parkplätze mit Parkhaus
END:VEVENT
END:VCALENDAR
