BEGIN:VCALENDAR
VERSION:2.0
PRODID:icalendar-ruby
CALSCALE:GREGORIAN
BEGIN:VEVENT
DTSTAMP:20260426T024056Z
UID:a6859bfa-3b02-4724-823f-91a4b44cfe35
DTSTART:20261129T110000
DTEND:20261129T180000
DESCRIPTION:Trödel  10\,- €\nNeuware  15\,- €\n 
LOCATION:Bornheimer Straße 166 53119 Zentrum
SUMMARY:OBI- und Edeka Parkplätze mit Parkhaus
END:VEVENT
END:VCALENDAR
