BEGIN:VCALENDAR
VERSION:2.0
PRODID:icalendar-ruby
CALSCALE:GREGORIAN
BEGIN:VEVENT
DTSTAMP:20260426T042109Z
UID:d362403c-6ad8-4b85-8d59-601a10b718fa
DTSTART:20261220T110000
DTEND:20261220T180000
DESCRIPTION:Trödel  10\,- €\nNeuware  15\,- €\n 
LOCATION:Bornheimer Straße 166 53119 Zentrum
SUMMARY:OBI- und Edeka Parkplätze mit Parkhaus
END:VEVENT
END:VCALENDAR
