BEGIN:VCALENDAR
VERSION:2.0
PRODID:icalendar-ruby
CALSCALE:GREGORIAN
BEGIN:VEVENT
DTSTAMP:20260424T223210Z
UID:84a71016-f1bb-4120-acd4-9238b0017b1b
DTSTART:20260815T080000
DTEND:20260815T160000
DESCRIPTION:Keine Neuware zugelassen !Bitte beachten sie\, dass das Formula
 r "Kontakt &amp\; Buchungsanfrage" KEINE Reservierung darstellt. Verbindli
 che  Reservierungen\, die per Vorkasse bezahlt werden müssen\, nehmen wi
 r unter www.nmv-marktagentur.de direkt in der Veranstaltung entgegen. Ger
 ne können sie natürlich auch ohne Reservierung auf unsere Flohmärkte ko
 mmen.\nDer laufende Frontmeter Trödel- und Gebrauchtwaren kostet 9 € (V
 orkasse)\, 10 € (Bezahlung vor Ort)\, Kleiderständer 3 €\, Samstag: A
 ufbau ab 06.00 Uhr\, Verkauf von 08.00 bis 16.00 Uhr
LOCATION:Gigelberg 3 88400 
SUMMARY:Flohmarkt auf dem Gigelberg
END:VEVENT
END:VCALENDAR
