BEGIN:VCALENDAR
VERSION:2.0
PRODID:icalendar-ruby
CALSCALE:GREGORIAN
BEGIN:VEVENT
DTSTAMP:20260421T215258Z
UID:42a79b9f-c9d4-4622-99b1-aab9272c8331
DTSTART:20260802T070000
DTEND:20260802T180000
DESCRIPTION:Kassels größter Flohmarkt. Jeden 1. Sonntag im Monat. Für Fl
 ohmarktartikel ist KEINE VORANMELDUNG nötig. \nES GIBT KEINE RESERVIERUNG
 \nEinfach ankommen\, aufbauen &amp\; mitmachen!\n10€ pro laufenden Meter
  für AltwarenNeuwarenhändler nur mit Voranmeldung!  Begrenzter Platz f
 ür Neuwarenhändler.\n15€ pro laufenden Meter für Neuwaren\nKartenzahl
 ung möglich!Bei Kartenzahlung: 1 € Rabatt pro laufender Meter\n \nPrei
 s zuzüglich einer Müllkaution von 10€\, diese gibt es beim sauberen Ve
 rlassen des Standes zurück. \n \n \nFragen gerne per E-Mail an : Flohma
 rkt@gartenfestivals.de
LOCATION:Werner-Heisenberg-Straße 10 34123 Waldau
SUMMARY:Flohmarkt Metro
END:VEVENT
END:VCALENDAR
