BEGIN:VCALENDAR
VERSION:2.0
PRODID:icalendar-ruby
CALSCALE:GREGORIAN
BEGIN:VEVENT
DTSTAMP:20260419T164158Z
UID:21136ae4-6437-424c-895d-7bf7b0f15ff2
DTSTART:20260705T083000
DTEND:20260705T160000
DESCRIPTION:Haben Sie Interesse? Dann sichern Sie sich unter 04102/31939 o
 der auf unserer Internetseite www.hochberg-flohmarkt.de Ihren persönlich
 en Flohmarktstand.\nPreise: lfd. Meter ohne Pkw 13\,00€ mit Pkw 15\,00
 € Dach 3\,00€ Aufschlag Aufbau: 7:00-8:30 Uhr\nDer Flohmarkt bei REWE 
 ist eine unserer größten Veranstaltungen in Lübeck. Der Flohmarkt eigne
 t sich hervorragend zum Kauf und Verkauf von Gebrauchtwaren aller Art. Kul
 inarisch wird diese Veranstaltung durch verschiedene Gastronomie-Stände a
 bgerundet.\nViel Spaß und viel Vergnügen!\nAnfahrt mit öffentlichen Ver
 kehrsmitteln:\nmit der Buslinie 11 ab ZOB/Hbf. Lübeck bis zur Haltestelle
  Buntekuh
LOCATION:Ziegelstraße 232 23556 Lübeck
SUMMARY:REWE Center Lübeck
END:VEVENT
END:VCALENDAR
