BEGIN:VCALENDAR
VERSION:2.0
PRODID:icalendar-ruby
CALSCALE:GREGORIAN
BEGIN:VEVENT
DTSTAMP:20260419T144950Z
UID:060d4846-4dfa-40d0-b8d9-bdba0009ee99
DTSTART:20260906T083000
DTEND:20260906T160000
DESCRIPTION:Haben Sie Interesse? Dann sichern Sie sich unter 04102/31939 o
 der auf unserer Internetseite www.hochberg-flohmarkt.de Ihren persönlich
 en Flohmarktstand.\nPreise: lfd. Meter ohne Pkw 13\,00€ mit Pkw 15\,00
 € Dach 3\,00€ Aufschlag Aufbau: 7:00-8:30 Uhr\nDer Flohmarkt bei REWE 
 ist eine unserer größten Veranstaltungen in Lübeck. Der Flohmarkt eigne
 t sich hervorragend zum Kauf und Verkauf von Gebrauchtwaren aller Art. Kul
 inarisch wird diese Veranstaltung durch verschiedene Gastronomie-Stände a
 bgerundet.\nViel Spaß und viel Vergnügen!\nAnfahrt mit öffentlichen Ver
 kehrsmitteln:\nmit der Buslinie 11 ab ZOB/Hbf. Lübeck bis zur Haltestelle
  Buntekuh
LOCATION:Ziegelstraße 232 23556 Lübeck
SUMMARY:REWE Center Lübeck
END:VEVENT
END:VCALENDAR
