BEGIN:VCALENDAR
VERSION:2.0
PRODID:icalendar-ruby
CALSCALE:GREGORIAN
BEGIN:VEVENT
DTSTAMP:20260422T014036Z
UID:100d44cc-019f-4c20-bd47-627a8f47dfa1
DTSTART:20260719T090000
DTEND:20260719T170000
DESCRIPTION:In Kooperation mit dem Gewerbeverein Neckarsteinach veranstalte
 n wir einen Strassenflohmarkt im Gewerbegebiet in der Industriestrasse (un
 d dem EDEKA- Parkplatz Industriestraße).\nInfos:\n\nKeine Voranmeldung n
 ötig\, jeder kann mit gebrauchten Waren teilnehmen. \nNeuwaren sind stark
  eingeschränkt und werden\, wenn überhaupt\, nur mit ausdrücklicher Gen
 ehmigung zugelassen.\nDer Markt ist von 9- 17 Uhr\, der Aufbau ist ab 7 Uh
 r möglich.\nDie Standgebühr beträgt € 9\,- / lfm. Standlänge\, Auto 
 kann am Stand bleiben.\nFür das leibliche Wohl ist gesorgt\, Toiletten st
 ehen zur Verfügung.\nDer Flohmarkt wird\, wie alle unsere Veranstaltungen
 \, gut beworben.(Tageszeitungen\, Plakatierung\, Flyer\, Internet\, Verans
 taltungskalender\,...) \n\n 
LOCATION:Industriestraße 7 69239 
SUMMARY:Neckarsteinach: Strassenflohmarkt im Gewerbegebiet  (Räbiger)
END:VEVENT
END:VCALENDAR
