BEGIN:VCALENDAR
VERSION:2.0
PRODID:icalendar-ruby
CALSCALE:GREGORIAN
BEGIN:VEVENT
DTSTAMP:20260421T003209Z
UID:8715482c-3659-492e-8826-365de5dd1abb
DTSTART:20260503T100000
DTEND:20260503T170000
DESCRIPTION:Antik Trödel-Sammlermarkt in der Stahalle und auf dem außenge
 lände.\nSchätze aus vergangenen Tagen und der heutigen Zeit\, ob Spiele\
 ,Schmuck\,Antiquitäten\,Möbel\,Bücher\,Porzellen\,Schallplatten oder Ge
 schenkartikel ist alles dabei :) \nJeder kann mit machen und seine Sachen
  zu Geld machen \nEinfach anmelden unter 0176/22159078 oder über unsere 
 website www.ab-trödelmarkt.de \nViel Spaß beim Verkaufen\,stöbern und 
 feilschen :)\nAufbau ab 7 Uhr \nMarktzeit 11-17 Uhr\nLfdm Trödel 12Euro\
 nLfdm Neuware 13Euro\n \nTeilnahmebedingungen:\nDie Platzvergabe erfolgt 
 durch den Veranstalter\,Team dann erst darf der Stand aufgebaut werden.\nD
 er angefangene Meter gilt als ganzer Meter.\nLärm ist beim Stand aufbau z
 u vermeiden.Müll ist vom Aussteller mit zu nehemen ansonsten können 20Eu
 ro Nachberechnet werden.\nFür das sichere betreiben des Standes haftet de
 r Aussteller\,das gilt auch für schädigende Einwirkungen durch Unwetter 
 o.ä.\nWir bitten alle Händler nicht vor 16:30 einzupacken da der Markt b
 is 17 Uhr geht\, bei Zuwiderhandlung können 10Euro berechnet werden.\nEin
 e Absage ist jederzeit möglich. Um den Standplatz ggf. neu vergeben zu k
 önnen bitte ich darum\, dies bis spätestens\n48 Stunden vor der Veransta
 ltung zu tun. Wer trotz Anmeldung unentschuldigt am Markttag fehlt\, demje
 nigen wird\ndie entgangene Standgebühr nachberechnet. Ich bitte um Verst
 ändnis.
LOCATION:Paul-Falke-Platz 6 57392 
SUMMARY:Schmallenberg Stadthalle und auf dem Außengelände 
END:VEVENT
END:VCALENDAR
