BEGIN:VCALENDAR
VERSION:2.0
PRODID:icalendar-ruby
CALSCALE:GREGORIAN
BEGIN:VEVENT
DTSTAMP:20260423T125746Z
UID:422b02a3-8d3a-4e01-9fa4-5ba3000761c5
DTSTART:20260530T060000
DTEND:20260530T160000
DESCRIPTION: \nEnkler - Einer der günstigsten Veranstalter Süddeutschlan
 ds. Bekannt für gutbesuchte und umsatzstarke Floh-\, Trödel-\, Sammler- 
 und Jahrmärkte in Ihrer Nähe. Bekannt und bewährt seit über 15 Jahren!
 !!\n\nWeitere Infos unter: \nwww.markt-enkler.de\n\nGerne beantworten wir 
 Ihre Fragen\, schreiben Sie uns einfach eine Email:\nenklers-maerkte@web.d
 e\n 
LOCATION:Am Bergsteig 1 92224 
SUMMARY:Parkplatz Kaufland Amberg
END:VEVENT
END:VCALENDAR
