BEGIN:VCALENDAR
VERSION:2.0
PRODID:icalendar-ruby
CALSCALE:GREGORIAN
BEGIN:VEVENT
DTSTAMP:20260423T162644Z
UID:afe5bfd1-cb98-4918-af68-dc4e6e622a15
DTSTART:20260607T060000
DTEND:20260607T160000
DESCRIPTION: \nEnkler - Einer der günstigsten Veranstalter Süddeutschlan
 ds. Bekannt für gutbesuchte und umsatzstarke Floh-\, Trödel-\, Sammler- 
 und Jahrmärkte in Ihrer Nähe. Bekannt und bewährt seit über 15 Jahren!
 !!\n\nWeitere Infos unter: \nwww.markt-enkler.de\n\nGerne beantworten wir 
 Ihre Fragen\, schreiben Sie uns einfach eine Email:\nenklers-maerkte@web.d
 e\n 
LOCATION:Schwarzenbrucker Straße 1 90537 
SUMMARY:Parkplatz Hagebaumarkt Feucht
END:VEVENT
END:VCALENDAR
