BEGIN:VCALENDAR
VERSION:2.0
PRODID:icalendar-ruby
CALSCALE:GREGORIAN
BEGIN:VEVENT
DTSTAMP:20260420T134751Z
UID:112846dd-57ec-4a85-870e-5df8030d0e33
DTSTART:20260626T100000
DTEND:20260626T180000
DESCRIPTION:Die große familienfreundliche Veranstaltung für den Besucher 
 mit Geschmack und Sinn für den grünen Daumen: Pflanzen\, Brunnen\, Grill
 s\, Gartengeräte\, Gartenmöbel\, Dekoratives\, Kunst\, Mode\, Schmuck\, 
 Accessoires\, Kulinarisches.\nRund um die Villa Braunswerth findet wieder 
 die Landpartie Engelskirchen statt. Rund 150 ausgesuchte Aussteller verwan
 deln das Gelände mit einem bunten Reigen aus Blühendem\, Mode\, Möbeln\
 , Kunst\, Schmuck und Dekorativem in einen Sinnesrausch für die Augen.\nK
 leine und große Besucher können sich auf ein reichhaltiges kulinarisches
  Angebot freuen. Ein abwechslungsreiches Eventprogramm mit Kinderschminken
 \, Walking Acts\, Greifvogelschau und musikalischer Unterhaltung rundet di
 e Landpartie stimmungsvoll ab.\nService der Landpartie auf einen Blick: De
 potservice für bequemes Abholen der Einkäufe\, Geldautomat vor Ort\, EC-
 Cash-Service\nEintrittspreise: Erwachsene 10\,- Euro Die Kinder unserer Be
 sucher haben freien Eintritt\nwww.landpartie-engelskirchen.de\nVeranstalte
 r: Messen – Märkte – Ausstellungen Reno Müller Richard-Wagner-Str. 5
 6 47799 Krefeld Tel.: 02151-594535 Fax: 02151-3256361 E-Mail: renomueller@
 t-online.de Homepage: www.renomueller.de
LOCATION:Engels-Platz 4 51766 Steeg
SUMMARY:Landpartie Engelskirchen
END:VEVENT
END:VCALENDAR
