BEGIN:VCALENDAR
VERSION:2.0
PRODID:icalendar-ruby
CALSCALE:GREGORIAN
BEGIN:VEVENT
DTSTAMP:20260425T132328Z
UID:44e90baf-d91f-446c-9e55-e5e9af46a089
DTSTART:20261115T060000
DTEND:20261115T163000
DESCRIPTION:Jetzt Kaufland\nDer Trödelarkt findet auf dem Parkplatz des eh
 emaligen real Markt\, heute KAUFLAND\, Gelände statt.\nZufahrt bitte übe
 r den OBI Baumarkt Parkplatz.Wir beginnen mit der Platzvergabe ab 6:00 Uhr
 .\n \nTrödel: Pkw am Stand 3 bis 5 Meter Aufbau vorm Fahrzeug 30\,-€\n
 Trödel: Pkw mit Anhänger Aufbau bis 7 Meter vorm Fahrzeug 45\,-€. Weni
 ger als 7 Meter gleicher Preis. Dieser Preis gildet für einen normalen Pk
 w mit einem Anhänger bis 2\,5 Meter. Grössere Anhänger vorher nach Prei
 s Fragen.\nTrödel: Transporter bis 7 Meter 45\,-€ Weniger als 7 Meter g
 leicher Preis.\njeder weitere Meter Trödel 5\,-€\nÜberdachte Plätze: 
 je Meter 10\,-€\nOhne Fahrzeug am Stand:\nTrödel: der erste Meter 10\,-
 €\nTrödel: 2 Meter 20\,-€\, ab 3 bis 5 Meter 30\,- €\n \nAb 3 Mete
 r am Stand: Neuware 13\,- € pro lfdm.\n \nInfo: 0171-2884978\n \nSomme
 rmonate April bis Oktober : Platzvergabe ab 6.00 Uhr.\nTel.: 0171 2094993 
 / 0171 2884978
LOCATION:Klingenbergstraße 11 32758 Detmold
SUMMARY:Kaufland / real Markt
END:VEVENT
END:VCALENDAR
