BEGIN:VCALENDAR
VERSION:2.0
PRODID:icalendar-ruby
CALSCALE:GREGORIAN
BEGIN:VEVENT
DTSTAMP:20260420T020935Z
UID:1e904f10-3a91-47ce-9d0c-cbd8a9752f27
DTSTART:20260510T100000
DTEND:20260510T180000
DESCRIPTION:Die große familienfreundliche Veranstaltung für den Besucher 
 mit Geschmack und Sinn für den grünen Daumen: Pflanzen\, Brunnen\, Grill
 s\, Gartengeräte\, Gartenmöbel\, Schmuck\, Dekoratives\, Kunst\, Mode\, 
 Accessoires\, Kulinarisches.\nAuf dem imposanten Koblenzer Gelände findet
  wieder die Landpartie Festung Ehrenbreitstein statt. Ausgesuchte Ausstell
 er verwandeln die trutzige Festung und den einladenden Schlosshof mit eine
 m bunten Reigen aus Blühendem\, Möbeln\, Kunst\, Schmuck und Dekorativem
  in einen Sinnesrausch für die Augen. Genießen Sie außerdem den berühm
 ten Blick auf den Zusammenfluss von Rhein und Mosel am Deutschen Eck.\nKle
 ine und große Besucher können sich auf ein reichhaltiges kulinarisches A
 ngebot freuen. Ein abwechslungsreiches Eventprogramm mit Walking Acts und 
 musikalischer Unterhaltung rundet die Landpartie stimmungsvoll ab.\nServic
 e der Landpartie auf einen Blick: Shuttle-Service Depotservice für bequem
 es Abholen der Einkäufe\, EC-Cash-Service an allen Ständen\,\nwww.landpa
 rtie-festung-ehrenbreitstein.de\nVeranstalter: Messen – Märkte – Auss
 tellungen Reno Müller Richard-Wagner-Str. 56 47799 Krefeld Tel.: 02151-59
 4535 Fax: 02151-3256361 E-Mail: renomueller@t-online.de Homepage: www.reno
 mueller.de
LOCATION:Festung Ehrenbreitstein 56077 
SUMMARY:Landpartie Festung Ehrenbreitstein
END:VEVENT
END:VCALENDAR
