BEGIN:VCALENDAR
VERSION:2.0
PRODID:icalendar-ruby
CALSCALE:GREGORIAN
BEGIN:VEVENT
DTSTAMP:20260420T090151Z
UID:338c75ee-0281-4c22-9cb3-209bc282c9ec
DTSTART:20260419T110000
DTEND:20260419T170000
DESCRIPTION: H&amp\;H Märkte Jetzt auch in Lingen! auf dem Parkplatz fami
 la. \n \nlfdm Trödel        :8€.  Neuware nur begrenz\, und vorh
 er anmelden.\n \nJeder kann mit Machen. \n 
LOCATION:Rheiner Straße 115 49809 Darme
SUMMARY:famila
END:VEVENT
END:VCALENDAR
