BEGIN:VCALENDAR
VERSION:2.0
PRODID:icalendar-ruby
CALSCALE:GREGORIAN
BEGIN:VEVENT
DTSTAMP:20260420T090311Z
UID:f24315b8-1a7b-47f7-abef-111ec91604bd
DTSTART:20261220T110000
DTEND:20261220T180000
DESCRIPTION:Neuware pro lfm 10\,00 €\, Trödel bis 5 lfm 30\,00 € ab 3 
 lfm Auto am Stand wenn möglich\n
LOCATION:Recklinghäuser Straße 81 45721 
SUMMARY:Edeka Center Bleise
END:VEVENT
END:VCALENDAR
