BEGIN:VCALENDAR
VERSION:2.0
PRODID:icalendar-ruby
CALSCALE:GREGORIAN
BEGIN:VEVENT
DTSTAMP:20260420T045713Z
UID:2b82bb50-83a8-4d54-97d0-d2b6ca8e0e71
DTSTART:20260628T080000
DTEND:20260628T170000
DESCRIPTION:
LOCATION:Bahnhofstraße 2 94258 
SUMMARY:Bahnhofstr
END:VEVENT
END:VCALENDAR
