BEGIN:VCALENDAR
VERSION:2.0
PRODID:icalendar-ruby
CALSCALE:GREGORIAN
BEGIN:VEVENT
DTSTAMP:20260420T123755Z
UID:722506fc-00e6-4ad8-927c-5fc14e0c843f
DTSTART:20270131T080000
DTEND:20270131T160000
DESCRIPTION:Jeden Sonntag begrüssen wir Sie auf unseren Trödelmarkt in de
 r Hansastrasse 188 in 13088 Berlin Weissensee.\n \nGeniessen Sie einen Bu
 mmel über unseren Markt und spazieren Sie im angrenzenden Volkspark und N
 aturschutzgebiet"Fauler See". Es gibt bei uns ausreichend Besucherparkplä
 tze. Sie erreichen uns aber auch mit der Tram Linie 4\, die ebenso wie die
  Busse der Linie 156 und 259 direkt am Markt halten. Kommen Sie vorbei und
  versuchen Sie sich als Verkäufer oder einfach nur zum Schlendern und St
 öbern\n \n \nAus der Feldküche gibt es herzhafte Speisen wie bei Mudde
 rn.\nWir haben einen Grillstand mit Bratwurst und wer ein kühles Pils vom
  Fass haben will ist auch genau richtig bei uns.\n \nFrisches Brot &amp\;
  Brötchen\, leckere Kuchen\, Biscuits u.v.m.  Welcher Bäcker bäckt heu
 te noch selbst ? Die meisten verkaufen nur noch Auftauware aus Industrieb
 äckerein.Nicht bei uns !!! Jeden Sonntag ist Bäcker Günni da und verkau
 ft seine frischgebackene Ware bei uns auf dem Markt.\n \nOfenfrischer Rä
 uscherfisch\nOb Forelle\, Seehecht\, Aal oder Makrele\, frisch geräuchert
 \, einfach ein Leckerbissen.\n \n----------------------------------------
 --------------------------------------------------------------------------
 -------------------------------------------------------------\nInfos für 
 Händler\nAufbau Sommer 01.04 – 30.09: von 07:00 – 09:00 UhrAufbau Win
 ter 01.10. – 31.03.: von 08:00 – 09:00 Uhr\n+++++  Unser Knüller fü
 r Händler ist der überdachte Stand mit abschließbarer Lagerbox von 2  
 Kubikmeter !!!! Verstauen sie Ihre Sachen und vergessen Sie lästiges Tüt
 en- oder Kofferschleppen in Bus und Bahn ++++\n \nPreise Trödelmarkt :- 
 lfdm Stellfläche                                  5\,- 
 €- überdachter Stand mit Lagerbox   18\,- €  !!! bitte immer Reser
 vieren !!!\n- GROßER ÜBERDACHTER MARKTSTAND *** Der mit Plane überdacht
 e\, 3m breite (originale) Marktstand. \n\n25\,- € pro Tag  TOP-PREIS*
 ** !!! bitte immer Reservieren !!!\n\n- Vermietung von Tischen 2\,5m   
      2\,- €- überdachter Stand mit abschließbarer Lagerbox (ca. 2
   m3)     monatlich   80\,-€*     (inklusive Standmiete) \nA
 ufbau Händler 07:00 - 10:00 Uhr   \nBitte überdachte Stände mindesten
 s eine Woche vorher reservieren ! Für Selbstaufbau mit oder ohne Auto kei
 ne Anmeldung erforderlich\n \nBei weiteren Fragen stehen wir Ihnen Telefo
 nisch zur Verfügung.0171 / 9206479\n  \n \n---------------------------
 --------------------------------------------------------------------------
 ------------------------------------------------------------------------\n
  \nFeldküche\nVon Montag Freitag und Sonntag kocht die Gulaschkanone lec
 kere Speisen.\n \nEs gibt jeden Tag unseren hausgemachten Erbseneintopf m
 it Bockwurst und dazu noch ein zweites Gericht.\nZum Beispiel: - Wurstgula
 sch mit Nudeln\n                     - Königsberger K
 lopse\n                     - Süß Saure Eier\n   
                   - Hühnerfrikasse\n          
            - Grützwurst mit Kartoffeln und Sauerkraut\n    
                  - Schweinegulasch mit Nudeln\n     
                 - Kassler mit Sauerkraut\n        
              - Linseneintopf\n                
      - Chili con Carne\n                     - Sze
 gediner Gulasch mit Kartoffeln\n                     -
  Milchreis mit Zucker und Zimt\n               \n \n***Jed
 en 1. Donnerstag im Monat ist Eisbeintag !!! Genießen Sie unsere deftigen
  Eisbeine mit Sauerkraut und frischem Brot.\n \n 
LOCATION:Hansastrasse 188 13088 Bezirk Pankow
SUMMARY:Trödelmarkt Berlin-Weißensee
END:VEVENT
END:VCALENDAR
