BEGIN:VCALENDAR
VERSION:2.0
PRODID:icalendar-ruby
CALSCALE:GREGORIAN
BEGIN:VEVENT
DTSTAMP:20260424T064603Z
UID:62550aff-5d9c-47a2-a5c4-07abc29b1678
DTSTART:20260502T060000
DTEND:20260502T150000
DESCRIPTION:Standgebühr:\nTrödel:     7\,00 € lfd. Meter\nNeuware 12
 \,00 € lfd. Meter\n- Die Mindeststandgröße beträgt 3 Meter -\n \n\nA
 ufbau ab 6.00 Uhr nach Eintreffen des Marktleiters\nkeine Anmeldung oder R
 eservierung \nJeder kann mitmachen \n\n \n \n \n \n \n 
LOCATION:Festplatz an der Mainlände 97816 
SUMMARY:Flohmarkt Lohr - Alle Infos siehe Beschreibung
END:VEVENT
END:VCALENDAR
