BEGIN:VCALENDAR
VERSION:2.0
PRODID:icalendar-ruby
CALSCALE:GREGORIAN
BEGIN:VEVENT
DTSTAMP:20260424T064920Z
UID:30f8c4aa-b124-4151-b58f-a757ee661d29
DTSTART:20261114T060000
DTEND:20261114T150000
DESCRIPTION:Standgebühr:\nTrödel:     7\,00 € lfd. Meter\nNeuware 12
 \,00 € lfd. Meter\n- Die Mindeststandgröße beträgt 3 Meter -\n \n\nA
 ufbau ab 6.00 Uhr nach Eintreffen des Marktleiters\nkeine Anmeldung oder R
 eservierung \nJeder kann mitmachen \n\n \n \n \n \n \n 
LOCATION:Festplatz an der Mainlände 97816 
SUMMARY:Flohmarkt Lohr - Alle Infos siehe Beschreibung
END:VEVENT
END:VCALENDAR
