BEGIN:VCALENDAR
VERSION:2.0
PRODID:icalendar-ruby
CALSCALE:GREGORIAN
BEGIN:VEVENT
DTSTAMP:20260424T064813Z
UID:17f56d23-0fb0-47a9-8f1d-4a6e805e8932
DTSTART:20260620T060000
DTEND:20260620T150000
DESCRIPTION:Standgebühr:\nTrödel:     7\,00 € lfd. Meter\nNeuware 12
 \,00 € lfd. Meter\n- Die Mindeststandgröße beträgt 3 Meter -\n \n\nA
 ufbau ab 6.00 Uhr nach Eintreffen des Marktleiters\nkeine Anmeldung oder R
 eservierung \nJeder kann mitmachen \n\n \n \n \n \n \n 
LOCATION:Festplatz an der Mainlände 97816 
SUMMARY:Flohmarkt Lohr - Alle Infos siehe Beschreibung
END:VEVENT
END:VCALENDAR
