BEGIN:VCALENDAR
VERSION:2.0
PRODID:icalendar-ruby
CALSCALE:GREGORIAN
BEGIN:VEVENT
DTSTAMP:20260424T064706Z
UID:b41418a6-035f-4530-b62f-b715466758da
DTSTART:20260704T060000
DTEND:20260704T150000
DESCRIPTION:Standgebühr:\nTrödel:     7\,00 € lfd. Meter\nNeuware 12
 \,00 € lfd. Meter\n- Die Mindeststandgröße beträgt 3 Meter -\n \n\nA
 ufbau ab 6.00 Uhr nach Eintreffen des Marktleiters\nkeine Anmeldung oder R
 eservierung \nJeder kann mitmachen \n\n \n \n \n \n \n 
LOCATION:Festplatz an der Mainlände 97816 
SUMMARY:Flohmarkt Lohr - Alle Infos siehe Beschreibung
END:VEVENT
END:VCALENDAR
