BEGIN:VCALENDAR
VERSION:2.0
PRODID:icalendar-ruby
CALSCALE:GREGORIAN
BEGIN:VEVENT
DTSTAMP:20260420T152517Z
UID:2ef7ce90-4254-403f-b6b0-3321eafbc27e
DTSTART:20260718T100000
DTEND:20260718T170000
DESCRIPTION:Grundsätzlich ist die Teilnahme für jedermann ohne Anmeldung 
 möglich!Selbstverständlich ist die Teilnahme auch an nur einem oder zwei
  Veranstaltungstagen möglich\, dann können wir aber leider keine Reservi
 erungen vornehmen\, d.h. einfach vorbeikommen und bei der Marktleitung mel
 den.Wichtig: Einlass an allen drei Tagen ab 8 Uhr. Platzvergabe für den M
 arkttag erfolgt entweder bei Einlass oder auch am Vortag zwischen 18 und 1
 9 Uhr. Achtung: Bitte reisen Sie nicht wesentlich vor den Einlasszeiten an
 \, da es sonst auf der Brücke zu erheblichen Staus kommen kann.Wie üblic
 h ist für Marktteilnehmer der Aufbau ab Donnerstag früh\, für Imbißbet
 reiber / Brauerei ab Mittwoch möglich. Die Verkaufsstände können über 
 Nacht stehen bleiben\, ebenso die zugehörigen Fahrzeuge / Anhänger. Da d
 as Gelände nachts nicht bewacht ist\, sind alle Händler gehalten\, ihre 
 Ware jeweils nach Veranstaltungsende abzuräumen und sicher zu verwahren. 
 Haftungsansprüche gegen den Veranstalter im Diebstahlsfalle sind ausgesch
 lossen! Selbstverständlich können Sie\, wenn gewünscht\, auf dem Platz 
 in Ihren Fahrzeugen\, oder ‐ nach vorheriger Absprache mit der Marktleit
 ung ‐ im Zelt übernachten.Für selbst vorgenommene Reservierungen (z.B.
  mittels Tapeziertischen) übernehmen wir keine Haftung.Das Standgeld betr
 ägt 8\,‐‐ € pro laufendem Meter. Imbiß\, Süßwaren\, Zigaretten u
 nd Zeitschriftenverkauf nur gegen gesonderten Vertrag! Autos am Stand sind
  gratis\, allerdings PKW nur ab Mindestbelegung von 3 lfdm.\, PKW mit Anh
 änger und Wohnmobile ab 5 lfdm. Und LKW ab 7 lfdm. Bei Unterschreitung de
 r Mindestbelegung kostet ein PKW / Anhänger pauschal € 8\,‐‐\, ein 
 LKW € 12\,‐‐. Gebührenfrei sind Überdächer / Pavillons bis zum Ma
 ße von 3 x 3 m\, bzw. gemietete Verkaufsfläche x 3 m. Bei Platzmangel be
 steht allerdings kein Anspruch auf Aufbau dieser!\nFür Kinder bis 12 Jahr
 en ist die Teilnahme bei 1 lfdm. Verkaufsfläche standgeldfrei\, soweit si
 e eigene\, kindgerechte Ware anbieten!Grundsätzlich gilt: Neuwaren verbot
 en! Zulässig sind neben Gebrauchtwaren auch jede Art von Kunsthandwerk.De
 r Verkauf von Waren vor dem offiziellen Markbeginn ist nicht zulässig. 
LOCATION:Am Protzenweiher Oberpfalzbrücke  93059 
SUMMARY: Dultplatz Flohmarkt
END:VEVENT
END:VCALENDAR
