BEGIN:VCALENDAR
VERSION:2.0
PRODID:icalendar-ruby
CALSCALE:GREGORIAN
BEGIN:VEVENT
DTSTAMP:20260420T084323Z
UID:4e1f6c62-f574-4875-8fbb-93eb11340715
DTSTART:20260516T080000
DTEND:20260516T160000
DESCRIPTION:Flohmarkt Parkplatz Gigelberg\nvon 8°° - 16°° Uhr\nLfm. 9.-
 €\nAuto am Stand !!!\nKeine Anmeldung erforderlich !!!\nKeine Neuware !!
 !
LOCATION:Gigelberg 13 88400 
SUMMARY:Parkplatz Gigelberg 
END:VEVENT
END:VCALENDAR
