BEGIN:VCALENDAR
VERSION:2.0
PRODID:icalendar-ruby
CALSCALE:GREGORIAN
BEGIN:VEVENT
DTSTAMP:20260422T053226Z
UID:52d125c0-5d81-450b-bf96-38464d6730d1
DTSTART:20260426T070000
DTEND:20260426T160000
DESCRIPTION:Willkommen zurück auf dem Marktkauf-Parkplatz! Der Trödelmark
 t in Horn ist wieder da!\nLiebe Trödelmarkt-Freunde\,\n wir freuen uns\,
  euch mitteilen zu können\, dass wir die nächsten Monate wie gewohnt auf
  dem Marktkauf-Parkplatz in Horn zu finden sind!\nAuf unserem beliebten Tr
 ödelmarkt ist für jeden etwas dabei.\nAlle Standplätze können ab einer
  Größe von 3 Metern mit dem Auto belegt werden.\nDamit ihr trocken bleib
 t\, sind Dachflächen für ca. 15 Händler vorhanden.\nDiese werden jedoch
  unter Vorkasse und Anmeldung für euch freigehalten\, damit ihr euch ganz
  auf euren Verkauf konzentrieren könnt.\nFragen zum tollen Trödelmarkt i
 n Horn beantworten wir gerne unter: 0172-283034.\nWir stehen euch jederzei
 t zur Verfügung!\nFreut euch auf tolle Schnäppchen\, nette Gespräche un
 d eine gemütliche Atmosphäre auf unserem Trödelmarkt in Horn!\n
LOCATION:Wilberger Straße 5 32805 Horn
SUMMARY:Flohmarkt Horn-Bad Meinberg Marktkauf toom Parkplatz 
END:VEVENT
END:VCALENDAR
