BEGIN:VCALENDAR
VERSION:2.0
PRODID:icalendar-ruby
CALSCALE:GREGORIAN
BEGIN:VEVENT
DTSTAMP:20260421T103134Z
UID:540b622d-add8-48f8-aa56-96e430cc271a
DTSTART:20260628T110000
DTEND:20260628T170000
DESCRIPTION:Stadt Damme liegt zwischen Osnabrück und Vechta. Trödelmarkt 
 auf dem Parkplatz der famila\, Seit Jahre ist sehr gut Besuchern\nnur ein 
 mal in jahr der Trödelmarkt stattfinden!! Besuchermassen Durch Werbung! w
 erbung!\nNeuware nur mit anmeldung!\n 
LOCATION:Im Hofe 2 49401 
SUMMARY:Parkplatz famila
END:VEVENT
END:VCALENDAR
