BEGIN:VCALENDAR
VERSION:2.0
PRODID:icalendar-ruby
CALSCALE:GREGORIAN
BEGIN:VEVENT
DTSTAMP:20260421T084715Z
UID:09d8e82d-112b-407b-8702-268154b42f10
DTSTART:20260816T110000
DTEND:20260816T170000
DESCRIPTION:Stadt Damme liegt zwischen Osnabrück und Vechta. Trödelmarkt 
 auf dem Parkplatz der famila\, Seit Jahre ist sehr gut Besuchern\nnur ein 
 mal in jahr der Trödelmarkt stattfinden!! Besuchermassen Durch Werbung! w
 erbung!\nNeuware nur mit anmeldung!\n 
LOCATION:Im Hofe 2 49401 
SUMMARY:Parkplatz famila
END:VEVENT
END:VCALENDAR
