BEGIN:VCALENDAR
VERSION:2.0
PRODID:icalendar-ruby
CALSCALE:GREGORIAN
BEGIN:VEVENT
DTSTAMP:20260424T035246Z
UID:037bd121-9107-471a-a16c-eed34605f768
DTSTART:20261209T110000
DTEND:20261209T230000
DESCRIPTION:Vom 20. November bis zum 23. Dezember bringt der Nikolausmarkt 
 für vier Wochen weihnachtliche Stimmung nach Bad Godesberg. Besucherinnen
  und Besucher dürfen sich auf kulinarische Leckereien\, einen Tannenbaumv
 erkauf und Kunsthandwerk aus aller Welt vom Theaterplatz bis zur Fronhofer
  Galeria freuen.\nAm verkaufsoffenen Sonntag Termin für 2025 wird noch be
 kanntgegeben ! An diesem Tage erhält jedes Kind bis 12 Jahren von Bad God
 esberg Stadtmarketing e.V. einen Schokoladennikolausund einen Chip für ei
 ne Karussellfahrt\, sowie einem Heißgetränk\, welches bei dem WeinhausSc
 hrauth ausgegeben wird. Mitarbeiter des Bad Godesberg Stadtmarketing sind 
 an den roten Jackenund Zipfelmützen zu erkennen.\nDamit dem Namen des Mar
 ktes alle Ehre gemacht wird\, kommt am 6. Dezember derNikolaus vorbei. Von
  13 bis 17 Uhr macht er Halt in der Fronhofer Galeria und empfängt die kl
 einenBesucherinnen und Besucher.\nAuch in diesem Jahr wird die Vereinshüt
 te an ihrem gewohnten Platz gegenüber der Fronhof Galeria stehen\, die t
 äglich von anderen Vereinen bestückt wird. Hier wird Selbstgemachtes und
  Selbstgebackenes für Abschlussfeiern\, Kitaausflüge und für den guten 
 Zweck verkauft.\nÖffnungszeiten:täglich bis 23.00 Uhr\nGlühweinbuden:\n
 Montag bis Samstag:\n11.00 – 23.00 Uhr\nSonntag:\n12.00 – 23.00 Uhr\nW
 arenverkaufsbuden:\nMontag bis Samstag:\n11.00 – 19.00 Uhr\nSonntag:\n12
 .00 – 19.00 Uhr\n 
LOCATION:Theaterplatz 22 53177 Bad Godesberg
SUMMARY:Nikolausmarkt Bad Godesberg
END:VEVENT
END:VCALENDAR
