BEGIN:VCALENDAR
VERSION:2.0
PRODID:icalendar-ruby
CALSCALE:GREGORIAN
BEGIN:VEVENT
DTSTAMP:20260420T152137Z
UID:fc731c1b-7c96-4dc5-85d8-2d2233772411
DTSTART:20261025T110000
DTEND:20261025T180000
DESCRIPTION:Wie in den vergangenen Jahren veranstalten wir auch in 2026 den
  Troedelmarkt zum Kuerbismarkt in Glandorf.\nDas Team von Didi\,s Trödelm
 aerkten freut sich auf euch.
LOCATION:Muensterstr. 49219 
SUMMARY:Innenstadt  Glandorf zum Kuerbismarkt
END:VEVENT
END:VCALENDAR
