BEGIN:VCALENDAR
VERSION:2.0
PRODID:icalendar-ruby
CALSCALE:GREGORIAN
BEGIN:VEVENT
DTSTAMP:20260424T084025Z
UID:261d67bf-0046-4e36-a058-20cf90984f55
DTSTART:20260531T080000
DTEND:20260531T160000
DESCRIPTION:Lfd. Meter Trödel 10\,- €.\nLfd. Meter Neuware 15\,- €.\nA
 ufbau ab o7.oo Uhr.  Ab 3 Meter PKW am Stand.
LOCATION:Langendernbacher Straße 49 65599 Frickhofen
SUMMARY:Dornburg-Center
END:VEVENT
END:VCALENDAR
