BEGIN:VCALENDAR
VERSION:2.0
PRODID:icalendar-ruby
CALSCALE:GREGORIAN
BEGIN:VEVENT
DTSTAMP:20260420T090245Z
UID:52be8e16-77f4-41d5-ad54-2fb385282060
DTSTART:20260823T080000
DTEND:20260823T160000
DESCRIPTION:Lfd. Meter Trödel 10\,- €.\nLfd. Meter Neuware 15\,- €.\nA
 ufbau ab o7.oo Uhr.  Ab 3 Meter PKW am Stand.
LOCATION:Langendernbacher Straße 49 65599 Frickhofen
SUMMARY:Dornburg-Center
END:VEVENT
END:VCALENDAR
