BEGIN:VCALENDAR
VERSION:2.0
PRODID:icalendar-ruby
CALSCALE:GREGORIAN
BEGIN:VEVENT
DTSTAMP:20260423T130005Z
UID:bdac57a9-f77f-41c9-bccc-99d743ba464d
DTSTART:20260510T110000
DTEND:20260510T180000
DESCRIPTION:Großer zweitägiger Triberger Flohmarkt vom Marktplatz über d
 en neuen Boulevard bis zu den Wasserfällen während des Schinkenfestes. S
 ehr viele Besucher. Absolutes Flohmarkthighlight! Jeder kann ohne Anmeldun
 g mitmachen! Einfach vorbeikommen! Es gibt genug Platz für alle! Gerne k
 önnen Sie sich natürlich auch telefonisch anmelden unter Tel. 0172- 7976
 002 oder per Mail: info@geros-flohmarkt.de!\nStandmiete beträgt € 10\,-
  pro Meter pro Tag! Bezahlung vor Ort!\nPlatzvergabe jeweils ab 6 Uhr morg
 ens auf dem Marktplatz (Hauptstr. 64)! Unser Mitarbeiter zeigt Ihnen dann 
 Ihren Standplatz!Eintägige Teilnahme ist auch möglich!\nBis dann!\nDer M
 arkt findet bei jedem Wetter statt!\n \n \nJetzt neu: Besuche www.gerosf
 lohmarkt.de und verkaufe kostenlos Deine Sachen online!\nGerosFlohmarkt.de
  - Flohmärkte und kostenlose Kleinanzeigen!
LOCATION:Hauptstraße 59 78098 
SUMMARY:Triberg\, Marktplatz und obere Hauptstrasse\, findet statt! Ohne An
 meldung! Einfach vorbeikommen!
END:VEVENT
END:VCALENDAR
