BEGIN:VCALENDAR
VERSION:2.0
PRODID:icalendar-ruby
CALSCALE:GREGORIAN
BEGIN:VEVENT
DTSTAMP:20260421T202254Z
UID:8547fb1c-3332-41ad-92fb-ab2af856dce6
DTSTART:20260425T060000
DTEND:20260425T160000
DESCRIPTION: alle Termine ohne Voranmeldung auch in der Halle ist ohne Vor
 anmeldung. Jeder kann mit machen.... Feb. März. April. Oktober November. 
 Dezember. Mit halle und draußen .\n \n \nKontakt:017658548060
LOCATION:St. Dionyser Weg 2 21357 
SUMMARY:ME-SA Flohmarkt-Bardowick
END:VEVENT
END:VCALENDAR
