BEGIN:VCALENDAR
VERSION:2.0
PRODID:icalendar-ruby
CALSCALE:GREGORIAN
BEGIN:VEVENT
DTSTAMP:20260421T191544Z
UID:d8ee640b-6e64-47ed-8462-47b76ed342fe
DTSTART:20260606T060000
DTEND:20260606T160000
DESCRIPTION: alle Termine ohne Voranmeldung auch in der Halle ist ohne Vor
 anmeldung. Jeder kann mit machen.... Feb. März. April. Oktober November. 
 Dezember. Mit halle und draußen .\n \n \nKontakt:017658548060
LOCATION:St. Dionyser Weg 2 21357 
SUMMARY:ME-SA Flohmarkt-Bardowick
END:VEVENT
END:VCALENDAR
