BEGIN:VCALENDAR
VERSION:2.0
PRODID:icalendar-ruby
CALSCALE:GREGORIAN
BEGIN:VEVENT
DTSTAMP:20260421T191545Z
UID:e2f28822-6d56-47fe-9a1e-809bc526cee7
DTSTART:20260822T060000
DTEND:20260822T160000
DESCRIPTION: alle Termine ohne Voranmeldung auch in der Halle ist ohne Vor
 anmeldung. Jeder kann mit machen.... Feb. März. April. Oktober November. 
 Dezember. Mit halle und draußen .\n \n \nKontakt:017658548060
LOCATION:St. Dionyser Weg 2 21357 
SUMMARY:ME-SA Flohmarkt-Bardowick
END:VEVENT
END:VCALENDAR
