BEGIN:VCALENDAR
VERSION:2.0
PRODID:icalendar-ruby
CALSCALE:GREGORIAN
BEGIN:VEVENT
DTSTAMP:20260421T191816Z
UID:17c04ece-1662-41bc-a6d6-89a3ddc8c969
DTSTART:20261010T060000
DTEND:20261010T160000
DESCRIPTION: alle Termine ohne Voranmeldung auch in der Halle ist ohne Vor
 anmeldung. Jeder kann mit machen.... Feb. März. April. Oktober November. 
 Dezember. Mit halle und draußen .\n \n \nKontakt:017658548060
LOCATION:St. Dionyser Weg 2 21357 
SUMMARY:ME-SA Flohmarkt-Bardowick
END:VEVENT
END:VCALENDAR
