BEGIN:VCALENDAR
VERSION:2.0
PRODID:icalendar-ruby
CALSCALE:GREGORIAN
BEGIN:VEVENT
DTSTAMP:20260421T191718Z
UID:42fb43ec-8af6-44e5-81ef-b92549016a4d
DTSTART:20261205T060000
DTEND:20261205T160000
DESCRIPTION: alle Termine ohne Voranmeldung auch in der Halle ist ohne Vor
 anmeldung. Jeder kann mit machen.... Feb. März. April. Oktober November. 
 Dezember. Mit halle und draußen .\n \n \nKontakt:017658548060
LOCATION:St. Dionyser Weg 2 21357 
SUMMARY:ME-SA Flohmarkt-Bardowick
END:VEVENT
END:VCALENDAR
