BEGIN:VCALENDAR
VERSION:2.0
PRODID:icalendar-ruby
CALSCALE:GREGORIAN
BEGIN:VEVENT
DTSTAMP:20260424T160545Z
UID:23c9723e-5933-4870-9dc8-fd43eeb2bead
DTSTART:20260516T100000
DTEND:20260516T160000
DESCRIPTION:Unser Vintage - Kaufparadies\, der Flohmarkt-Shop im WOK Küche
 n-Museum ist geöffnet. Es werden aus dem Museums-Magazin tolle Stücke an
 geboten\, die mehrfach vorhanden sind oder nicht mehr gebraucht werden.\nH
 ausrat\, Küchenmöbel\, Küchen-Schränke\, Ess-Tische\, Stühle\, div. G
 eräte\, Steh- und Hänge-Lampen\, Seidenblumen\, Stoffe\, Damenmode\, alt
 es und neues Glas\, feines Porzellan\, Kisten mit Polter-Porzellan\, Kochb
 ücher und viele schöne Dekorationsstücke\, die sich im Magazin angehäu
 ft haben. Siehe Bilder\, gereinigt und sortiert. 1000 schöne Sachen zum k
 leinen Preis - alles muß raus! Jede Woche neue Dinge. Auch für Händler 
 geeignet!!!\nDie soziale Kaufhalle dient zu Gunsten der Schulküche des K
 üchen-Museums\, in der bereits 1000 Schulklassen mit über 25000 Kinder g
 ekocht haben. Der Shop ist DI-SA ab 10 Uhr zum Stöbern geöffnet.WOK-Küc
 henmuseum e. V.  Sichernstrasse 22\, 30161 Hannover\nwww.wok-museum.de\n
  
LOCATION:Spichernstraße 22 30161 Vahrenwald-List
SUMMARY:Flohmarkt-Shop im Küchenmuseum
END:VEVENT
END:VCALENDAR
