BEGIN:VCALENDAR
VERSION:2.0
PRODID:icalendar-ruby
CALSCALE:GREGORIAN
BEGIN:VEVENT
DTSTAMP:20260421T152939Z
UID:a286db44-46ed-404a-be21-eaa6c6ef393d
DTSTART:20260920T110000
DTEND:20260920T180000
DESCRIPTION:Regelmäßig stattfindender Trödelmarkt in zentraler Lage. Ein
  ausgewogenes Verhältnis von Trödel und Neuware erwartet Sie. Gerade bei
  schönem Wetter findet man hier viele private Aussteller welche ihre ganz
  persönlichen Schätze anbieten.\nNutzen Sie die Gelegenheit Dinge die Si
 e nicht mehr benötigen zu Geld zu machen - oder Sie sind privater (Hobby-
 )Trödler oder wollen ein solcher werden\, dann sind Sie natürlich auch h
 erzlich willkomen.\nParken BesucherEin Teil des Parkplatzes ist als Besuch
 erparkplatz ausgewiesen\, darüber hinaus befinden sich Parkplätze in der
  unmittelbaren Umgebung.\nStandplatzreservierungenüber unser Büro: bis F
 reitag vor dem Markt 12 Uhrvor Ort: Samstag 17 Uhr\, Sonntag ab 7 Uhr\nPar
 ken Aussteller / PKW am StandGenerell können Sie Ihr Fahrzeug quer hinter
  dem Stand parken sofern die Länge des Fahrzeuges der Standlänge entspri
 cht (z. B. Golf-Größe ab 4 lfd. Metern / Kombi ab 5 lfd. Metern). Fragen
  Sie im Zweifel gerne die Marktleitung vor Ort bzw. entnehmen Sie die Län
 ge Ihres Fahrzeuges dem Fahrzeugschein.\nStandaufbauAb 7 Uhr - jedoch nich
 t vor Eintreffen der Marktleitung (erkennbar an der gelben Weste / rotes T
 -Shirt bzw. Pullover)\nVerkaufszeit11 bis 18 Uhr\, Abbau ab 16 Uhr möglic
 h\nStandmietenGrundgebühr / Stand: 5€lfd. Meter Trödel 12€lfd. Meter
  Neuware 20€lfd. Meter Textil / Lederwaren / Werkzeug 22€Eckplatzzusch
 lag: 20€Reinigungskaution: 5€ (bei sauberem Verlassen zurück)Angebot 
 für private Aussteller: 5 Mtr. Trödel nur 45€ incl. GrundgebührAlle A
 ngaben ohne Gewähr\, aktuelle Preise stets auf unserer Homepage.\n \n \
 nWeitere Infos auf unserer Homepage www.rieder-maerkte.de (einfach unten a
 uf "Homepage des Veranstalters" klicken). \n \n 
LOCATION:Am Ellernbusch 31 52355 Rölsdorf
SUMMARY:KAUFLAND (Am Ellernbusch) vorm. real\,-
END:VEVENT
END:VCALENDAR
