BEGIN:VCALENDAR
VERSION:2.0
PRODID:icalendar-ruby
CALSCALE:GREGORIAN
BEGIN:VEVENT
DTSTAMP:20260421T113028Z
UID:a080e75b-487f-49e2-a959-883c4ee31c3b
DTSTART:20260621T110000
DTEND:20260621T180000
DESCRIPTION:Regelmäßig stattfindender Trödelmarkt in zentraler Lage. Ein
  ausgewogenes Verhältnis von Trödel und Neuware erwartet Sie. Gerade bei
  schönem Wetter findet man hier viele private Aussteller welche ihre ganz
  persönlichen Schätze anbieten.\nNutzen Sie die Gelegenheit Dinge die Si
 e nicht mehr benötigen zu Geld zu machen - oder Sie sind privater (Hobby-
 )Trödler oder wollen ein solcher werden\, dann sind Sie natürlich auch h
 erzlich willkomen.\nParken BesucherParkplätze für Besucher befinden sich
  auf einem Teil des Hornbach-Parkplatzes\, im Gewerbegebiet sowie auf dem 
 benachbarten REWE-Center.\nStandplatzreservierungenüber unser Büro: bis 
 Freitag vor dem Markt 12 Uhrvor Ort: Samstag 17 Uhr\, Sonntag ab 7 Uhr\nPa
 rken Aussteller / PKW am StandGenerell können Sie Ihr Fahrzeug quer hinte
 r dem Stand parken sofern die Länge des Fahrzeuges der Standlänge entspr
 icht (z. B. Golf-Größe ab 4 lfd. Metern / Kombi ab 5 lfd. Metern). Frage
 n Sie im Zweifel gerne die Marktleitung vor Ort bzw. entnehmen Sie die Lä
 nge Ihres Fahrzeuges dem Fahrzeugschein.\nStandaufbauAb 7 Uhr - jedoch nic
 ht vor Eintreffen der Marktleitung (erkennbar an der gelben Weste / rotes 
 T-Shirt bzw. Pullover)\nVerkaufszeit11 bis 18 Uhr\, Abbau ab 16 Uhr mögli
 ch\nStandmietenGrundgebühr / Stand: 5€lfd. Meter Trödel 12€lfd. Mete
 r Neuware 20€lfd. Meter Textil / Lederwaren / Werkzeug 22€Eckplatzzusc
 hlag: 20€Reinigungskaution: 5€ (bei sauberem Verlassen zurück)Angebot
  für private Aussteller: 5 Mtr. Trödel nur 45€ incl. Grundgebühr\nPre
 ise und Angaben ohne Gewähr. \n \nWeitere Infos auf unserer Homepage ww
 w.rieder-maerkte.de (einfach unten auf "Homepage des Veranstalters" klicke
 n). \n \n 
LOCATION:Industriestraße 19 52382 Huchem-Stammeln
SUMMARY:HORNBACH Huchem-Stammeln
END:VEVENT
END:VCALENDAR
