BEGIN:VCALENDAR
VERSION:2.0
PRODID:icalendar-ruby
CALSCALE:GREGORIAN
BEGIN:VEVENT
DTSTAMP:20260422T194416Z
UID:1148c1e7-e61b-40da-b066-feccec228611
DTSTART:20260607T110000
DTEND:20260607T160000
DESCRIPTION:Infos unter www.richter-troedelmaerkte.de oder 02843/9036903
LOCATION:Franz-Haniel-Straße 71 47443 
SUMMARY:HORNBACH Moers
END:VEVENT
END:VCALENDAR
