BEGIN:VCALENDAR
VERSION:2.0
PRODID:icalendar-ruby
CALSCALE:GREGORIAN
BEGIN:VEVENT
DTSTAMP:20260422T194420Z
UID:58ed1de0-4325-4041-8fb6-d587b7a22a18
DTSTART:20260809T110000
DTEND:20260809T160000
DESCRIPTION:Infos unter www.richter-troedelmaerkte.de oder 02843/9036903
LOCATION:Franz-Haniel-Straße 71 47443 
SUMMARY:HORNBACH Moers
END:VEVENT
END:VCALENDAR
