BEGIN:VCALENDAR
VERSION:2.0
PRODID:icalendar-ruby
CALSCALE:GREGORIAN
BEGIN:VEVENT
DTSTAMP:20260422T180145Z
UID:a3e428d9-c4c4-4cb5-97fc-b9d08de8bb8e
DTSTART:20261003T110000
DTEND:20261003T160000
DESCRIPTION:Infos unter www.richter-troedelmaerkte.de oder 02843/9036903
LOCATION:Franz-Haniel-Straße 71 47443 
SUMMARY:HORNBACH Moers
END:VEVENT
END:VCALENDAR
