BEGIN:VCALENDAR
VERSION:2.0
PRODID:icalendar-ruby
CALSCALE:GREGORIAN
BEGIN:VEVENT
DTSTAMP:20260422T115340Z
UID:1a28fca1-7b82-4d1d-b8c5-a93cda2fb2ac
DTSTART:20260516T080000
DTEND:20260516T160000
DESCRIPTION:Der Flohmarkt auf dem Talmarktgelände in Bad Wimpfen (imTal) h
 at mittlerweile eine langjährige Tradition!\nDer Markt findet unter unser
 er Leitung nur noch 3 x im Jahr statt. Imbiss und Toilette sind natürlich
  vorhanden. Die Marktzeiten sind von 08.00- 16.00 Uhr\, der Aufbau ist ab 
 06.00 Uhr. Standgebühren: € 9\,00/ lfm. Standlänge. Jeder kann ohne Vo
 ranmeldung teilnehmen! Nur Neuwaren (reine Neuwarenstände) sind verboten\
 , bzw. nur mit ausdrücklicher Genehmigung zugelasse.! Der Markt wird\, wi
 e alle unsere Veranstaltungen sehr gut beworben (Zeitungsinserate in zahlr
 eichen Zeitungen\, Plakatierung\, diverse Internetseiten mit Marktterminen
 \, Flyer\, Mundpropaganda\, ...). Außerdem wird der Flohmarkt am Veransta
 ltungstag mit zahlreichen "Heute Flohmarkt"- Pfeilen beschildert\, sodass 
 ihn jeder findet. Weitere Infos unter www.raebigers-flohmarkt.de\, 0171-20
 24857 oder 07268/9198178.\nBitte nehmen Sie Rücksicht auf die Anwohner un
 d verhalten sich in den frühen Morgenstunden leise!!!!\n 
LOCATION:Lindenhof 5 74206 
SUMMARY:Bad Wimpfen: Talmarktgelände (Räbiger)
END:VEVENT
END:VCALENDAR
