BEGIN:VCALENDAR
VERSION:2.0
PRODID:icalendar-ruby
CALSCALE:GREGORIAN
BEGIN:VEVENT
DTSTAMP:20260422T003236Z
UID:d09710ab-72b3-4a38-ae1a-f41d9b367df0
DTSTART:20261003T090000
DTEND:20261003T170000
DESCRIPTION:Flohmarkt im Historischen Scheunenviertel Steinhude am Steinhud
 er Meer - Aufbau ab 8:00 Uhr Markt 9:00 - 18:00 Uhr - Standgebühr bis 3 M
 eter 20\,00 € Gewerbliche Anbieter 30\,00 € jeder weitere Meter 5\,00 
 € - Auto am Stand möglich wenn das Auto nicht Größer als der Stand is
 t. - Neuware nur nach Absprache möglich
LOCATION:Am Graben 4 31515 Steinhude
SUMMARY:Flohmarkt Steinhude
END:VEVENT
END:VCALENDAR
