BEGIN:VCALENDAR
VERSION:2.0
PRODID:icalendar-ruby
CALSCALE:GREGORIAN
BEGIN:VEVENT
DTSTAMP:20260422T045110Z
UID:a606452f-27c4-4958-8bea-57f79ec371a4
DTSTART:20260514T110000
DTEND:20260514T190000
DESCRIPTION:Nachtflohmarkt im Historischen Scheunenviertel in Steinhude - A
 ufbau ab 9:00 Uhr Markt 11:00 - 21:00 Uhr - Standgebühren bis 3 Meter 20\
 ,00 € Gewerblich 30\,00 € jeder weitere Meter 5\,00 € - Auto am Plat
 z möglich wenn das Auto nicht Größer als der Stand ist - Neuware nur na
 ch Absprache möglich.\n
LOCATION:Am Graben 12 31515 Steinhude
SUMMARY:Nachtflohmarkt Steinhude
END:VEVENT
END:VCALENDAR
