BEGIN:VCALENDAR
VERSION:2.0
PRODID:icalendar-ruby
CALSCALE:GREGORIAN
BEGIN:VEVENT
DTSTAMP:20260421T231804Z
UID:ee76d3f4-7d15-41ae-bac8-4d317b4808d1
DTSTART:20260712T110000
DTEND:20260712T170000
DESCRIPTION:Familienflohmarkt im Historischen Scheunenviertel in Steinhude 
 - Aufbau ab 9:00 Uhr Markt 11:00 - 18:00 Uhr - Standgebühr bis 3 Meter 20
 \,00 € Gewerblich 30\,00 € jeder weitere Meter 5\,00 € - Kindertisch
  ( 1 Meter ) nur nach absprache möglich. Neuware nur nach Absprache mögl
 ich.
LOCATION:Am Graben 12 31515 Steinhude
SUMMARY:Familienflohmarkt
END:VEVENT
END:VCALENDAR
