BEGIN:VCALENDAR
VERSION:2.0
PRODID:icalendar-ruby
CALSCALE:GREGORIAN
BEGIN:VEVENT
DTSTAMP:20260421T140021Z
UID:ee1cd9ab-a50f-4cd2-82bf-54b11d641d7d
DTSTART:20260524T110000
DTEND:20260524T170000
DESCRIPTION:RIESEN FLOHMARKT     IKEA     Saarlouis - Lisdorf jede
 n letzten Sonntag im Monat\nEs ist wieder so weit\, der Startschuß für u
 nseren größten Flohmarkt im Saarland ist gefallen.\nWir freuen uns auch 
 dieses Jahr wieder auf zahlreichen Zulauf an neuen Händlern und natürlic
 h auf unsere neuen so wie alten Kunden.\n \nVERANSTALTER\nMarktveranstalt
 ungen Schreier\nEiweilerstraße 1\n66793 Saarwellingen\nTel. 06838/85222 
          \nInfo@mv-schreier.de                    
               \nwww.mv-schreier.de\nSchauen Sie auf unserer 
 Webseite nach aktuellen Terminen und wöchentlichen Flohmarktveranstaltung
 en                                    
                                      
                                      
                      \n 
LOCATION:Im Hader 1 66740 Lisdorf
SUMMARY:RIESEN FLOHMARKT     IKEA   Saarlouis - Lisdorf
END:VEVENT
END:VCALENDAR
